BEGIN:VCALENDAR
VERSION:2.0
PRODID:spatie/icalendar-generator
DESCRIPTION:Veranstaltungen von Doppelpack
X-WR-CALDESC:Veranstaltungen von Doppelpack
REFRESH-INTERVAL;VALUE=DURATION:PT1440M
X-PUBLISHED-TTL:PT1440M
BEGIN:VTIMEZONE
TZID:Etc/GMT-1
BEGIN:STANDARD
DTSTART:20220809T000000Z
TZOFFSETFROM:+0100
TZOFFSETTO:+0100
END:STANDARD
END:VTIMEZONE
BEGIN:VTIMEZONE
TZID:UTC
BEGIN:STANDARD
DTSTART:20250725T083737Z
TZOFFSETFROM:+0000
TZOFFSETTO:+0000
END:STANDARD
END:VTIMEZONE
BEGIN:VEVENT
UID:1933-192
DTSTAMP:20260421T083737Z
SUMMARY:Zwillingsbasar
LOCATION:
ORGANIZER;CN=Lily McLeish:MAILTO:j_backes@outlook.de
DTSTART;TZID=Etc/GMT-1:20230506T000000
DTEND;TZID=Etc/GMT-1:20230506T180000
X-ALT-DESC;FMTTYPE=TEXT/HTML:&amp;nbsp\; Hallo liebe Doppelpackler! &amp;nbsp\; Am 
 6.Mai 2023 möchten wir euch nach langer Zeit endlich wieder zu einem Floh
 markt einladen. Im Bürgertreff X Eygelshovener Str. 33\, 50999 Köln-Sür
 th Von 12:00 - 18:00 könnt ihr nach Herzenslust trödeln\, suchen und es 
 euch bei Kaffee und Kuchen gut gehen lassen. &amp;nbsp\; Habt ihr Interesse an
  einem Stand&amp;hellip\;
CATEGORIES:Flohmarkt
URL;VALUE=URI:
METHOD:PUBLISH
END:VEVENT
END:VCALENDAR