BEGIN:VCALENDAR
VERSION:2.0
PRODID:spatie/icalendar-generator
DESCRIPTION:Veranstaltungen von Doppelpack
X-WR-CALDESC:Veranstaltungen von Doppelpack
REFRESH-INTERVAL;VALUE=DURATION:PT1440M
X-PUBLISHED-TTL:PT1440M
BEGIN:VTIMEZONE
TZID:Etc/GMT-1
BEGIN:STANDARD
DTSTART:20221123T150000Z
TZOFFSETFROM:+0100
TZOFFSETTO:+0100
END:STANDARD
END:VTIMEZONE
BEGIN:VTIMEZONE
TZID:UTC
BEGIN:STANDARD
DTSTART:20250724T090509Z
TZOFFSETFROM:+0000
TZOFFSETTO:+0000
END:STANDARD
END:VTIMEZONE
BEGIN:VEVENT
UID:2009-207
DTSTAMP:20260420T090509Z
SUMMARY:Stammtisch / Café-Treff (linksrheinisch)
LOCATION:
ORGANIZER;CN=Lily McLeish:MAILTO:j_backes@outlook.de
DTSTART;TZID=Etc/GMT-1:20230820T150000
DTEND;TZID=Etc/GMT-1:20230820T160000
X-ALT-DESC;FMTTYPE=TEXT/HTML:Liebe Doppelpackler! ein Mal monatlich möchte
  ich euch zu einem linksrheinischen Stammtisch in Form eines Café-Treffs 
 einladen. Treffpunkt ist dieses Mal der Biergarten / Spielplatz am Rathena
 uplatz Ab 15:00 Uhr treffen wir uns dort zum Quatschen während sich die K
 inder auf dem Spielplatz beschäftigen (so die Theorie...) Anmeldungen bit
 te an jasmin.backes@doppelpack.org Ich freu mich auf&amp;hellip\;
CATEGORIES:Allgemein,  Stammtisch
URL;VALUE=URI:
METHOD:PUBLISH
END:VEVENT
END:VCALENDAR