BEGIN:VCALENDAR
VERSION:2.0
PRODID:spatie/icalendar-generator
DESCRIPTION:Veranstaltungen von Doppelpack
X-WR-CALDESC:Veranstaltungen von Doppelpack
REFRESH-INTERVAL;VALUE=DURATION:PT1440M
X-PUBLISHED-TTL:PT1440M
BEGIN:VTIMEZONE
TZID:Etc/GMT-1
BEGIN:STANDARD
DTSTART:20240718T190000Z
TZOFFSETFROM:+0100
TZOFFSETTO:+0100
END:STANDARD
END:VTIMEZONE
BEGIN:VTIMEZONE
TZID:UTC
BEGIN:STANDARD
DTSTART:20250725T085140Z
TZOFFSETFROM:+0000
TZOFFSETTO:+0000
END:STANDARD
END:VTIMEZONE
BEGIN:VEVENT
UID:2166-240
DTSTAMP:20260421T085140Z
SUMMARY:Schwangerentreff
LOCATION:Zoom OnlineMeeting
ORGANIZER;CN=Lily McLeish:MAILTO:j_backes@outlook.de
DTSTART;TZID=Etc/GMT-1:20250414T190000
DTEND;TZID=Etc/GMT-1:20250414T203000
X-ALT-DESC;FMTTYPE=TEXT/HTML:
CATEGORIES:Schwangerentreff
URL;VALUE=URI:
METHOD:PUBLISH
END:VEVENT
END:VCALENDAR